3
0
0
-3
628107.33
4700821.195
