3
0
0
-3
624278.135
4700766.23
