3
0
0
-3
621658.16
4700747.909
