3
0
0
-3
606781.096
4700583.015
