3
0
0
-3
600167.032
4700491.408
