3
0
0
-3
591500.959
4700399.8
