3
0
0
-3
543223.787
4699978.406
