3
0
0
-3
570330.398
4691083.314
