3
0
0
-3
596585.118
4691339.815
