3
0
0
-3
615163.127
4691559.673
