3
0
0
-3
621520.69
4691596.316
