3
0
0
-3
628496.662
4682682.903
