3
0
0
-3
618410.673
4682444.723
