3
0
0
-3
612236.325
4682426.402
