3
0
0
-3
607985.735
4682353.116
