3
0
0
-3
605530.653
4682316.472
