3
0
0
-3
603368.715
4682279.829
