3
0
0
-3
601554.886
4682243.186
