3
0
0
-3
585743.425
4682023.328
