3
0
0
-3
576546.028
4681876.756
