3
0
0
-3
595279.711
4672972.504
