3
0
0
-3
598064.58
4673009.147
