3
0
0
-3
600996.021
4673064.111
