3
0
0
-3
641926.269
4673302.291
