3
0
0
-3
645178.395
4664361.395
