3
0
0
-3
643236.315
4664324.752
