3
0
0
-3
641065.216
4664324.752
