3
0
0
-3
620105.412
4663958.322
