3
0
0
-3
607060.499
4663885.036
