3
0
0
-3
600574.685
4663793.429
