3
0
0
-3
579926.346
4663610.213
