3
0
0
-3
571443.489
4663390.355
