3
0
0
-3
573403.89
4663390.355
