3
0
0
-3
590726.816
4654357.852
