3
0
0
-3
602617.475
4654522.746
