3
0
0
-3
617952.576
4654632.675
