3
0
0
-3
627589.748
4645884.155
