3
0
0
-3
623384.962
4645755.905
