3
0
0
-3
618309.904
4645746.744
