0.0398189270181943
-0.004872347241194
-0.004872347241194
-0.0398189270181943
556840.668486729
4701726.70254044
