0.0373591402825288
-0.013517632090668
-0.013517632090668
-0.0373591402825288
563805.133461773
4700444.57066279
