0.0375032868508329
-0.015247897480379
-0.015247897480379
-0.0375032868508329
563376.566604858
4700144.47001187
