0.0389016396922205
-0.016503888724797
-0.016503888724797
-0.0389016396922205
566436.284864334
4697904.05038027
