3.148150805
0.107918983
0.107918983
-3.148150805
595943.6655
4644972.123
