3.148061791
0.11048512
0.11048512
-3.148061791
568229.7415
4653381.619
