3.148061791
0.11048512
0.11048512
-3.148061791
585705.4365
4653880.111
