3.148061791
0.11048512
0.11048512
-3.148061791
588639.4165
4653937.081
