3.147882445
0.115482097
0.115482097
-3.147882445
610806.7091
4663946.783
