3.147882445
0.115482097
0.115482097
-3.147882445
602033.2551
4663690.416
