3.147882445
0.115482097
0.115482097
-3.147882445
584486.3471
4663120.711
